BEGIN:VCALENDAR
VERSION:2.0
PRODID:-//école sacré coeur argoat - ECPv5.16.3.1//NONSGML v1.0//EN
CALSCALE:GREGORIAN
METHOD:PUBLISH
X-WR-CALNAME:école sacré coeur argoat
X-ORIGINAL-URL:https://www.ecoleargoat.fr
X-WR-CALDESC:évènements pour école sacré coeur argoat
BEGIN:VTIMEZONE
TZID:Europe/Paris
BEGIN:DAYLIGHT
TZOFFSETFROM:+0100
TZOFFSETTO:+0200
TZNAME:CEST
DTSTART:20230326T010000
END:DAYLIGHT
BEGIN:STANDARD
TZOFFSETFROM:+0200
TZOFFSETTO:+0100
TZNAME:CET
DTSTART:20231029T010000
END:STANDARD
END:VTIMEZONE
BEGIN:VEVENT
DTSTART;VALUE=DATE:20231130
DTEND;VALUE=DATE:20231201
DTSTAMP:20260423T232003
CREATED:20231027T082005Z
LAST-MODIFIED:20231027T082005Z
UID:10034-1701302400-1701388799@www.ecoleargoat.fr
SUMMARY:CE1/CE2 B   : Ti-Kuzhet / Plantation 15h15-16h05
DESCRIPTION:
URL:https://www.ecoleargoat.fr/event/ce1-ce2-b-ti-kuzhet-plantation-15h15-16h05/
CATEGORIES:Agenda
END:VEVENT
END:VCALENDAR