BEGIN:VCALENDAR
VERSION:2.0
PRODID:-//école sacré coeur argoat - ECPv5.16.3.1//NONSGML v1.0//EN
CALSCALE:GREGORIAN
METHOD:PUBLISH
X-WR-CALNAME:école sacré coeur argoat
X-ORIGINAL-URL:https://www.ecoleargoat.fr
X-WR-CALDESC:évènements pour école sacré coeur argoat
BEGIN:VTIMEZONE
TZID:Europe/Paris
BEGIN:DAYLIGHT
TZOFFSETFROM:+0100
TZOFFSETTO:+0200
TZNAME:CEST
DTSTART:20230326T010000
END:DAYLIGHT
BEGIN:STANDARD
TZOFFSETFROM:+0200
TZOFFSETTO:+0100
TZNAME:CET
DTSTART:20231029T010000
END:STANDARD
END:VTIMEZONE
BEGIN:VEVENT
DTSTART;VALUE=DATE:20230515
DTEND;VALUE=DATE:20230516
DTSTAMP:20260426T050026
CREATED:20230411T104225Z
LAST-MODIFIED:20230411T115917Z
UID:9746-1684108800-1684195199@www.ecoleargoat.fr
SUMMARY:CM2 A & B : Musée de la mémoire & phare : Plougonvelin
DESCRIPTION:
URL:https://www.ecoleargoat.fr/event/cm2-a-b-musee-de-la-memoire-phare-plougonvelin/
CATEGORIES:Agenda
END:VEVENT
END:VCALENDAR