BEGIN:VCALENDAR
VERSION:2.0
PRODID:-//école sacré coeur argoat - ECPv5.16.3.1//NONSGML v1.0//EN
CALSCALE:GREGORIAN
METHOD:PUBLISH
X-WR-CALNAME:école sacré coeur argoat
X-ORIGINAL-URL:https://www.ecoleargoat.fr
X-WR-CALDESC:évènements pour école sacré coeur argoat
BEGIN:VTIMEZONE
TZID:Europe/Paris
BEGIN:DAYLIGHT
TZOFFSETFROM:+0100
TZOFFSETTO:+0200
TZNAME:CEST
DTSTART:20230326T010000
END:DAYLIGHT
BEGIN:STANDARD
TZOFFSETFROM:+0200
TZOFFSETTO:+0100
TZNAME:CET
DTSTART:20231029T010000
END:STANDARD
END:VTIMEZONE
BEGIN:VEVENT
DTSTART;VALUE=DATE:20230613
DTEND;VALUE=DATE:20230614
DTSTAMP:20260420T073900
CREATED:20230511T103959Z
LAST-MODIFIED:20230531T125334Z
UID:9763-1686614400-1686700799@www.ecoleargoat.fr
SUMMARY:CM2 A & B : Rencontre à l'hippodrome avec les 6èmes (après-midi)
DESCRIPTION:
URL:https://www.ecoleargoat.fr/event/cm2-a-b-rencontre-a-lhippodrome-avec-les-6emes-apres-midi/
CATEGORIES:Agenda
END:VEVENT
END:VCALENDAR