BEGIN:VCALENDAR
VERSION:2.0
PRODID:-//école sacré coeur argoat - ECPv5.16.3.1//NONSGML v1.0//EN
CALSCALE:GREGORIAN
METHOD:PUBLISH
X-WR-CALNAME:école sacré coeur argoat
X-ORIGINAL-URL:https://www.ecoleargoat.fr
X-WR-CALDESC:évènements pour école sacré coeur argoat
BEGIN:VTIMEZONE
TZID:Europe/Paris
BEGIN:DAYLIGHT
TZOFFSETFROM:+0100
TZOFFSETTO:+0200
TZNAME:CEST
DTSTART:20240331T010000
END:DAYLIGHT
BEGIN:STANDARD
TZOFFSETFROM:+0200
TZOFFSETTO:+0100
TZNAME:CET
DTSTART:20241027T010000
END:STANDARD
END:VTIMEZONE
BEGIN:VEVENT
DTSTART;VALUE=DATE:20240130
DTEND;VALUE=DATE:20240131
DTSTAMP:20260424T105243
CREATED:20240119T081423Z
LAST-MODIFIED:20240119T081423Z
UID:10162-1706572800-1706659199@www.ecoleargoat.fr
SUMMARY:CM2 B : Animation Tri 13h30/15h00
DESCRIPTION:
URL:https://www.ecoleargoat.fr/event/cm2-b-animation-tri-13h30-15h00/
CATEGORIES:Agenda
END:VEVENT
END:VCALENDAR