BEGIN:VCALENDAR
VERSION:2.0
PRODID:-//école sacré coeur argoat - ECPv5.16.3.1//NONSGML v1.0//EN
CALSCALE:GREGORIAN
METHOD:PUBLISH
X-WR-CALNAME:école sacré coeur argoat
X-ORIGINAL-URL:https://www.ecoleargoat.fr
X-WR-CALDESC:évènements pour école sacré coeur argoat
BEGIN:VTIMEZONE
TZID:Europe/Paris
BEGIN:DAYLIGHT
TZOFFSETFROM:+0100
TZOFFSETTO:+0200
TZNAME:CEST
DTSTART:20230326T010000
END:DAYLIGHT
BEGIN:STANDARD
TZOFFSETFROM:+0200
TZOFFSETTO:+0100
TZNAME:CET
DTSTART:20231029T010000
END:STANDARD
END:VTIMEZONE
BEGIN:VEVENT
DTSTART;VALUE=DATE:20231123
DTEND;VALUE=DATE:20231124
DTSTAMP:20260421T120427
CREATED:20231027T084227Z
LAST-MODIFIED:20231027T084227Z
UID:10074-1700697600-1700783999@www.ecoleargoat.fr
SUMMARY:GS/CP C & CM bilingues : Visite au musée Breton à Quimper
DESCRIPTION:
URL:https://www.ecoleargoat.fr/event/gs-cp-c-cm-bilingues-visite-au-musee-breton-a-quimper/
CATEGORIES:Agenda
END:VEVENT
END:VCALENDAR